BEGIN:VCALENDAR
VERSION:2.0
PRODID:-//MUJER Y AUTISTA - SARA CODINA - ECPv6.15.18//NONSGML v1.0//EN
CALSCALE:GREGORIAN
METHOD:PUBLISH
X-WR-CALNAME:MUJER Y AUTISTA - SARA CODINA
X-ORIGINAL-URL:https://mujeryautista.com
X-WR-CALDESC:Eventos para MUJER Y AUTISTA - SARA CODINA
REFRESH-INTERVAL;VALUE=DURATION:PT1H
X-Robots-Tag:noindex
X-PUBLISHED-TTL:PT1H
BEGIN:VTIMEZONE
TZID:UTC
BEGIN:STANDARD
TZOFFSETFROM:+0000
TZOFFSETTO:+0000
TZNAME:UTC
DTSTART:20230101T000000
END:STANDARD
END:VTIMEZONE
BEGIN:VEVENT
DTSTART;TZID=UTC:20241116T110000
DTEND;TZID=UTC:20241116T130000
DTSTAMP:20260421T004553
CREATED:20241106T214913Z
LAST-MODIFIED:20241106T222614Z
UID:21174-1731754800-1731762000@mujeryautista.com
SUMMARY:Xerrada amb Sara Codina i Judith López
DESCRIPTION:Xerrada oferta per a tothom i gratuïta en la que parlarem sobre l’autisme desde la mirada de la primera persona i la mirada professional.
URL:https://mujeryautista.com/evento/xerrada-amb-sara-codina-i-judith-lopez/
LOCATION:Escola Can Sorts\, C. Joanot Martorell 1\, Sentmenat\, Barcelona\, 08181\, España
CATEGORIES:Eventos
ATTACH;FMTTYPE=image/png:https://mujeryautista.com/wp-content/uploads/2024/11/can-sorts.png
END:VEVENT
BEGIN:VEVENT
DTSTART;VALUE=DATE:20241123
DTEND;VALUE=DATE:20241124
DTSTAMP:20260421T004553
CREATED:20241113T103929Z
LAST-MODIFIED:20241113T105250Z
UID:21193-1732320000-1732406399@mujeryautista.com
SUMMARY:Defensa de los derechos sexuales y afectivos de las personas autistas y con discapacidad.
DESCRIPTION:Jornadas sobre la defensa de los derechos sexuales y afectivos de las personas autistas y con discapacidad\, con un enfoque de género e interseccional. \nA lo largo del día\, contaremos con la participación de personas autistas y expertas y activistas en la materia como Gemma Deulofeu\, Judit Rius\, Maialen Beltran\, Irene Torres y el Colectivo Argelaga\, quienes nos hablarán sobre vulneraciones y obstáculos en la defensa de los derechos sexuales\, ejemplos de proyectos para una educación sexual basada en los derechos y el placer\, la diversidad sexual y de género\, la maternidad y la discapacidad\, o la prevención de las violencias machistas. Además\, finalizaremos con una obra de teatro protagonizada por nuestro grupo de chicas autistas\, Les Aneguetes\, que nos contarán cómo han entrado en la adolescencia y han afrontado los nuevos retos: citas y relaciones afectivas y sexuales. También contaremos con una mesa redonda con Sara Codina y José Malaguilla.
URL:https://mujeryautista.com/evento/jornada-derechos-sexuales-y-afectivos/
LOCATION:Auditorio Josep Irla\, Plaça Pompeu Fabra 1\, Girona\, Girona\, 17002\, España
CATEGORIES:Eventos
ATTACH;FMTTYPE=image/jpeg:https://mujeryautista.com/wp-content/uploads/2024/11/1080x1080caste.jpg
END:VEVENT
END:VCALENDAR