BEGIN:VCALENDAR
VERSION:2.0
PRODID:-//MUJER Y AUTISTA - SARA CODINA - ECPv6.15.18//NONSGML v1.0//EN
CALSCALE:GREGORIAN
METHOD:PUBLISH
X-ORIGINAL-URL:https://mujeryautista.com
X-WR-CALDESC:Eventos para MUJER Y AUTISTA - SARA CODINA
REFRESH-INTERVAL;VALUE=DURATION:PT1H
X-Robots-Tag:noindex
X-PUBLISHED-TTL:PT1H
BEGIN:VTIMEZONE
TZID:UTC
BEGIN:STANDARD
TZOFFSETFROM:+0000
TZOFFSETTO:+0000
TZNAME:UTC
DTSTART:20230101T000000
END:STANDARD
END:VTIMEZONE
BEGIN:VEVENT
DTSTART;TZID=UTC:20240919T180000
DTEND;TZID=UTC:20240919T200000
DTSTAMP:20260421T043034
CREATED:20240810T113757Z
LAST-MODIFIED:20240830T151001Z
UID:20941-1726768800-1726776000@mujeryautista.com
SUMMARY:Dona i Autisme
DESCRIPTION:Conferencia “Autismo en primera persona”\nMesa redonda.\nTurno de ruegos y preguntas.\n\nLa primera semana de septiembre se actualizarán los detalles del evento.
URL:https://mujeryautista.com/evento/dona-i-autisme/
LOCATION:Centre Cívic de Balàfia\, Carrer del Penedès 18\, Lleida\, Lleida\, 25005\, España
ATTACH;FMTTYPE=image/png:https://mujeryautista.com/wp-content/uploads/2024/08/autisme-lleida-sara-codina-mujeryautista.png
END:VEVENT
BEGIN:VEVENT
DTSTART;TZID=UTC:20240927T180000
DTEND;TZID=UTC:20240927T200000
DTSTAMP:20260421T043034
CREATED:20240810T112026Z
LAST-MODIFIED:20240810T112235Z
UID:20936-1727460000-1727467200@mujeryautista.com
SUMMARY:Mi vida siendo autista en un mundo pensado por y para las personas neurotípicas.
DESCRIPTION:Mi vida siendo autista en un mundo pensado por y para las personas neurotípicas. \nCharla sobre mi experiencia vital siendo autista sin saberlo\, la llegada del diagnóstico y lo que ocurre tras recibirlo. \nHabrá turno de preguntas\, firma del libro Neurodivina y punto y merienda de cortesía para compartir experiencias con otras personas asistentes a la charla. \nLas plazas son limitadas con un aforo reducido para propiciar un entorno cercano y poder interactuar mejor.
URL:https://mujeryautista.com/evento/mi-vida-siendo-autista-en-un-mundo-pensado-por-y-para-las-personas-neurotipicas/
LOCATION:Centro Famydiat\, Calle del Alcalde Díaz Zafra 8\, Málaga\, Málaga\, 29006\, España
ATTACH;FMTTYPE=image/png:https://mujeryautista.com/wp-content/uploads/2024/08/eventos-3.png
END:VEVENT
END:VCALENDAR