BEGIN:VCALENDAR
VERSION:2.0
PRODID:-//MUJER Y AUTISTA - SARA CODINA - ECPv6.15.18//NONSGML v1.0//EN
CALSCALE:GREGORIAN
METHOD:PUBLISH
X-WR-CALNAME:MUJER Y AUTISTA - SARA CODINA
X-ORIGINAL-URL:https://mujeryautista.com
X-WR-CALDESC:Eventos para MUJER Y AUTISTA - SARA CODINA
REFRESH-INTERVAL;VALUE=DURATION:PT1H
X-Robots-Tag:noindex
X-PUBLISHED-TTL:PT1H
BEGIN:VTIMEZONE
TZID:UTC
BEGIN:STANDARD
TZOFFSETFROM:+0000
TZOFFSETTO:+0000
TZNAME:UTC
DTSTART:20220101T000000
END:STANDARD
END:VTIMEZONE
BEGIN:VEVENT
DTSTART;VALUE=DATE:20231202
DTEND;VALUE=DATE:20231203
DTSTAMP:20260423T124939
CREATED:20230811T164116Z
LAST-MODIFIED:20231011T131020Z
UID:19719-1701475200-1701561599@mujeryautista.com
SUMMARY:20 aniversario Associació Espectre Autista - Asperger Catalunya
DESCRIPTION:Barcelona \nPendiente Información
URL:https://mujeryautista.com/evento/esdeveniment-20-aniversari-asperger-catalunya/
CATEGORIES:Eventos
ATTACH;FMTTYPE=image/png:https://mujeryautista.com/wp-content/uploads/2023/08/imagen-destacada-web.png
END:VEVENT
BEGIN:VEVENT
DTSTART;TZID=UTC:20231216T100000
DTEND;TZID=UTC:20231216T190000
DTSTAMP:20260423T124939
CREATED:20231203T221300Z
LAST-MODIFIED:20231203T221538Z
UID:20368-1702720800-1702753200@mujeryautista.com
SUMMARY:VI Jornada formativa - Autismo Cantabria
DESCRIPTION:APTACAN Autismo Cantabria organiza la VI Jornada Formativa: TEA en primera persona\, empleo y vida adulta.\nCon certificado de asistencia.
URL:https://mujeryautista.com/evento/vi-jornada-formativa-autismo-cantabria/
LOCATION:Paraninfo de la Magdalena\, Familia Real 8\, Santander\, 39005\, España
ATTACH;FMTTYPE=image/png:https://mujeryautista.com/wp-content/uploads/2023/12/Autismo-Cantabria-APTACAN-formacion.png
END:VEVENT
END:VCALENDAR