BEGIN:VCALENDAR
VERSION:2.0
PRODID:-//MUJER Y AUTISTA - SARA CODINA - ECPv6.15.18//NONSGML v1.0//EN
CALSCALE:GREGORIAN
METHOD:PUBLISH
X-WR-CALNAME:MUJER Y AUTISTA - SARA CODINA
X-ORIGINAL-URL:https://mujeryautista.com
X-WR-CALDESC:Eventos para MUJER Y AUTISTA - SARA CODINA
REFRESH-INTERVAL;VALUE=DURATION:PT1H
X-Robots-Tag:noindex
X-PUBLISHED-TTL:PT1H
BEGIN:VTIMEZONE
TZID:UTC
BEGIN:STANDARD
TZOFFSETFROM:+0000
TZOFFSETTO:+0000
TZNAME:UTC
DTSTART:20220101T000000
END:STANDARD
END:VTIMEZONE
BEGIN:VEVENT
DTSTART;TZID=UTC:20231104T180000
DTEND;TZID=UTC:20231104T200000
DTSTAMP:20260423T112336
CREATED:20231005T161111Z
LAST-MODIFIED:20231011T133436Z
UID:19855-1699120800-1699128000@mujeryautista.com
SUMMARY:15 Aniversari TEAMAR
DESCRIPTION:Xerrada amb motu del 15 aniversari de l’Associació TEA Asperger Maresme. \n  \n 
URL:https://mujeryautista.com/evento/15-aniversari-teamar/
LOCATION:El Masnou\, El Masnou\, 08320\, España
CATEGORIES:Eventos
ATTACH;FMTTYPE=image/png:https://mujeryautista.com/wp-content/uploads/2023/10/TEAMAR-Sara-Codina-autisme-en-primera-persona.png
END:VEVENT
BEGIN:VEVENT
DTSTART;TZID=UTC:20231109T183000
DTEND;TZID=UTC:20231109T193000
DTSTAMP:20260423T112336
CREATED:20230811T163935Z
LAST-MODIFIED:20231101T171140Z
UID:19713-1699554600-1699558200@mujeryautista.com
SUMMARY:Dones\, autisme i violències invisibilitzades
DESCRIPTION:Dones\, autisme i violències invisibilitzades a càrrec de Sara Codina i Celia Mateo. \nConversarem sobre les violències que pateixen les dones autistes\, en primera persona\, degut a la falta de visibilitat i comprensió envers a les neurodivergències. \nSara Codina\, autista i autora del llibre Neurodivina y punto\, 40 años siendo autista y yo sin saberlo\, conversarà amb la Celia Mateo\, autista psicòloga i investigadora. \n 
URL:https://mujeryautista.com/evento/autisme-en-femeni-i-violencies/
LOCATION:Biblioteca Francesca Bonnemaison\, Carrer de Sant Pere Més Baix 7\, Barcelona\, 08003\, España
CATEGORIES:Eventos
ATTACH;FMTTYPE=image/png:https://mujeryautista.com/wp-content/uploads/2023/08/dones-i-autisme-Barcelona.png
END:VEVENT
BEGIN:VEVENT
DTSTART;TZID=UTC:20231116T180000
DTEND;TZID=UTC:20231117T190000
DTSTAMP:20260423T112336
CREATED:20231016T123505Z
LAST-MODIFIED:20231101T171022Z
UID:20111-1700157600-1700247600@mujeryautista.com
SUMMARY:Webinar: Comunicando desde tu esencia en las redes sociales
DESCRIPTION:Formación dirigida a personas autistas.\nLa formación tratará sobre cómo sacar el máximo partido a las redes sociales\, aprendiendo las claves de la comunicación en primera persona. En mi webinar hablaré sobre los límites\, los pros y los contras de exponerse en redes sociales.
URL:https://mujeryautista.com/evento/webinar-comunicando-desde-tu-esencia-en-las-redes-sociales/
ATTACH;FMTTYPE=image/png:https://mujeryautista.com/wp-content/uploads/2023/10/webinar-autismo-en-primera-persona-1.png
ORGANIZER;CN="Autismo Espa%C3%B1a":MAILTO:info@autismo.org.es
END:VEVENT
BEGIN:VEVENT
DTSTART;VALUE=DATE:20231123
DTEND;VALUE=DATE:20231124
DTSTAMP:20260423T112336
CREATED:20230811T164033Z
LAST-MODIFIED:20231013T105832Z
UID:19717-1700697600-1700783999@mujeryautista.com
SUMMARY:EDAI SYMPOSIUM - Avances en el Autismo desde una visión multidisciplinar
DESCRIPTION:EDAI School of Neurodevelopment and Mental Health presenta el EDAI Symposium en Caixaforum Madrid en el que participaré como ponente para hablar sobre mi experiencia como mujer autista diagnosticada en la edad adulta. \nPrecio reducido si indicas en la inscripción que has visto al info aquí. \nPrograma Symposium 2023 \n 
URL:https://mujeryautista.com/evento/simposio-autismo-edai/
LOCATION:CaixaForum – Madrid\, Paseo del Prado 36\, Madrid\, 28014\, España
CATEGORIES:Eventos
ATTACH;FMTTYPE=image/png:https://mujeryautista.com/wp-content/uploads/2023/08/EDAI-Symposium-autismo.png
END:VEVENT
END:VCALENDAR