BEGIN:VCALENDAR
VERSION:2.0
PRODID:-//MUJER Y AUTISTA - SARA CODINA - ECPv6.15.18//NONSGML v1.0//EN
CALSCALE:GREGORIAN
METHOD:PUBLISH
X-ORIGINAL-URL:https://mujeryautista.com
X-WR-CALDESC:Eventos para MUJER Y AUTISTA - SARA CODINA
REFRESH-INTERVAL;VALUE=DURATION:PT1H
X-Robots-Tag:noindex
X-PUBLISHED-TTL:PT1H
BEGIN:VTIMEZONE
TZID:UTC
BEGIN:STANDARD
TZOFFSETFROM:+0000
TZOFFSETTO:+0000
TZNAME:UTC
DTSTART:20220101T000000
END:STANDARD
END:VTIMEZONE
BEGIN:VEVENT
DTSTART;VALUE=DATE:20230930
DTEND;VALUE=DATE:20231002
DTSTAMP:20260421T133757
CREATED:20230811T163704Z
LAST-MODIFIED:20240129T164323Z
UID:19705-1696032000-1696204799@mujeryautista.com
SUMMARY:I Congreso Hispanoamericano Autista
DESCRIPTION:
URL:https://mujeryautista.com/evento/i-congreso-hispanoamericano-autista/
LOCATION:Expo Guadalajara\, Av. Mariano Otero 1499\, Verde Valle\, Guadalajara\, Jalisco\, 44550\, México
CATEGORIES:Eventos
ATTACH;FMTTYPE=image/png:https://mujeryautista.com/wp-content/uploads/2024/01/23.png
END:VEVENT
BEGIN:VEVENT
DTSTART;VALUE=DATE:20231021
DTEND;VALUE=DATE:20231022
DTSTAMP:20260421T133757
CREATED:20230811T163820Z
LAST-MODIFIED:20231015T090340Z
UID:19709-1697846400-1697932799@mujeryautista.com
SUMMARY:II Jornada "Parlem d'autisme".
DESCRIPTION:Participación como ponente en la que hablaré sobre el diagnóstico tardío de autismo en mujeres.
URL:https://mujeryautista.com/evento/jornada-autisme-ateate/
LOCATION:Auditori Felip Pedrell (Tortosa)\, Passeig de la Ribera 11\, Tortosa\, 43500
CATEGORIES:Eventos
ATTACH;FMTTYPE=image/png:https://mujeryautista.com/wp-content/uploads/2023/10/II-Jornada-parlem-d-autisme-ateate.png
END:VEVENT
BEGIN:VEVENT
DTSTART;TZID=UTC:20231028T103000
DTEND;TZID=UTC:20231028T123000
DTSTAMP:20260421T133757
CREATED:20230811T163901Z
LAST-MODIFIED:20231011T133748Z
UID:19711-1698489000-1698496200@mujeryautista.com
SUMMARY:Evolución de la autorrepresentación en el autismo los últimos 20 años.
DESCRIPTION:Evento en primera persona para conversar y dar un repaso histórico sobre cómo ha evolucionado la autorrepresentación\, activismo y divulgación\, entre las personas autistas durante los últimos años. \n 
URL:https://mujeryautista.com/evento/evolucion-de-la-autorrepresentacion-en-el-autismo-los-ultimos-20-anos/
LOCATION:COVB\, Av. República Argentina 21 - 25\, Barcelona\, Barcelona\, 08023\, España
CATEGORIES:Eventos
ATTACH;FMTTYPE=image/png:https://mujeryautista.com/wp-content/uploads/2023/08/imagen-destacada-web-2.png
END:VEVENT
END:VCALENDAR