BEGIN:VCALENDAR
VERSION:2.0
PRODID:-//MUJER Y AUTISTA - SARA CODINA - ECPv6.15.18//NONSGML v1.0//EN
CALSCALE:GREGORIAN
METHOD:PUBLISH
X-WR-CALNAME:MUJER Y AUTISTA - SARA CODINA
X-ORIGINAL-URL:https://mujeryautista.com
X-WR-CALDESC:Eventos para MUJER Y AUTISTA - SARA CODINA
REFRESH-INTERVAL;VALUE=DURATION:PT1H
X-Robots-Tag:noindex
X-PUBLISHED-TTL:PT1H
BEGIN:VTIMEZONE
TZID:UTC
BEGIN:STANDARD
TZOFFSETFROM:+0000
TZOFFSETTO:+0000
TZNAME:UTC
DTSTART:20240101T000000
END:STANDARD
END:VTIMEZONE
BEGIN:VEVENT
DTSTART;TZID=UTC:20250111T090000
DTEND;TZID=UTC:20250111T140000
DTSTAMP:20260421T024344
CREATED:20241220T170227Z
LAST-MODIFIED:20241220T170321Z
UID:21296-1736586000-1736604000@mujeryautista.com
SUMMARY:Ciclo de Ponencias sobre el AUTISMO
DESCRIPTION:Programa\n\n\n\n\nDe 9’00 a 9’30 horas \nRecogida de material de los inscritos. \nDe 9’30 a 10’20: \n“Autismo y discapacidad intelectual: Actualización y acompañamiento”\, Marta Robles\, neuropsicóloga. \nDe 10’30 a 11’20: \n“Tea e integración sensorial”\, María Gabriela Paiva\, terapeuta ocupacional. \nDe 11’30 a 11’50: \nPausa – Café \nDe 12’00 a 12’50: \n“Autismo en primera persona”\, Sara Codina\, escritora y conferenciante. \n  \nDirigido a cualquier persona interesada en el tema\, si bien\, principalmente\, para profesionales del sector de Servicios Sociales y profesorado de educación Infantil y Primaria.
URL:https://mujeryautista.com/evento/ciclo-de-ponencias-sobre-el-autismo/
LOCATION:Auditorio municipal Ángel María Boronat\, Auditorio Periodista Ángel María Boronat\, Aspe\, Alicante\, 03680\, Spain
CATEGORIES:Eventos
ATTACH;FMTTYPE=image/png:https://mujeryautista.com/wp-content/uploads/2024/12/evento-autismo-aspe-alicante.png
END:VEVENT
BEGIN:VEVENT
DTSTART;TZID=UTC:20250220T190000
DTEND;TZID=UTC:20250220T200000
DTSTAMP:20260421T024344
CREATED:20250223T114828Z
LAST-MODIFIED:20250223T114828Z
UID:21646-1740078000-1740081600@mujeryautista.com
SUMMARY:Presentación de Lucía y el infinito en Barcelona
DESCRIPTION:Presentación de mi segundo libro Lucía y el infinito.
URL:https://mujeryautista.com/evento/presentacion-de-lucia-y-el-infinito-en-barcelona/
LOCATION:Casa del Llibre – Pg. de Gràcia 62\, Passeig de Gràcia 62\, Barcelona\, Barcelona\, 08007\, Spain
CATEGORIES:Eventos
ATTACH;FMTTYPE=image/jpeg:https://mujeryautista.com/wp-content/uploads/2025/02/43.jpg
END:VEVENT
BEGIN:VEVENT
DTSTART;TZID=UTC:20250317T183000
DTEND;TZID=UTC:20250317T200000
DTSTAMP:20260421T024344
CREATED:20250308T160102Z
LAST-MODIFIED:20250308T160409Z
UID:21684-1742236200-1742241600@mujeryautista.com
SUMMARY:Autisme i sororitat. Una conversa entre dones autistes
DESCRIPTION:Presentació i signatura del llibre Lucía y el infinito. \nL’acte es durà a terme a través d’una conversa entre dones autistes sobre sororitat i autisme\, en la que hi participarà l’autora del libre juntament amb altres dones (no s’indica els noms perquè així ho han convingut per privacitat).\nL’acte serà moderat per Natàlia Radó (Directora de l’Associació Espectre Autista – Asperger Catalunya).  \nA més\, ens acompanyarà la Tati Ayala\, il·lustradora de la portada del llibre. \n 
URL:https://mujeryautista.com/evento/autisme-i-sororitat-una-conversa-entre-dones-autistes/
LOCATION:Biblioteca Francesca Bonnemaison\, Carrer de Sant Pere Més Baix 7\, Barcelona\, 08003\, España
CATEGORIES:Eventos
ATTACH;FMTTYPE=image/jpeg:https://mujeryautista.com/wp-content/uploads/2025/03/Lucia-y-el-infinito.jpg
END:VEVENT
BEGIN:VEVENT
DTSTART;TZID=UTC:20250322T120000
DTEND;TZID=UTC:20250322T130000
DTSTAMP:20260421T024344
CREATED:20250223T121155Z
LAST-MODIFIED:20250223T121414Z
UID:21657-1742644800-1742648400@mujeryautista.com
SUMMARY:Presentación de Lucía y el infinito en ALICANTE
DESCRIPTION:Presentación de mi segundo libro\, Lucía y el infinito\, en Casa del Libro Alicante (C/ Poeta Vila y Blanco 8) junto con Amalia Moreno\, psicóloga de APDA (Asociación pro Personas con Discapacidad de Aspe) con quien hablaremos sobre el autismo y cómo se vive desde puntos de vista tan distantes y cercanos a la vez a través de los personajes que se presentan en el libro.
URL:https://mujeryautista.com/evento/presentacion-de-lucia-y-el-infinito-en-alicante/
LOCATION:Casa del Libro – Alicante\, Poeta Vila y Blanco 8\, Alicante\, Alicante\, 03003\, Spain
CATEGORIES:Eventos
ATTACH;FMTTYPE=image/jpeg:https://mujeryautista.com/wp-content/uploads/2025/02/44.jpg
END:VEVENT
BEGIN:VEVENT
DTSTART;TZID=UTC:20250328T180000
DTEND;TZID=UTC:20250328T193000
DTSTAMP:20260421T024344
CREATED:20250223T122358Z
LAST-MODIFIED:20250223T122438Z
UID:21661-1743184800-1743190200@mujeryautista.com
SUMMARY:Presentación de Lucía y el infinito en TARRAGONA
DESCRIPTION:Presentación de mi segundo libro Lucía y el infinito.
URL:https://mujeryautista.com/evento/presentacion-de-lucia-y-el-infinito-en-tarragona/
LOCATION:Teatret del Serrallo\, Moll de Pesacadors\, Tarragona\, Tarragona\, 43004\, Spain
CATEGORIES:Eventos
ATTACH;FMTTYPE=image/jpeg:https://mujeryautista.com/wp-content/uploads/2025/02/45.jpg
END:VEVENT
BEGIN:VEVENT
DTSTART;VALUE=DATE:20250405
DTEND;VALUE=DATE:20250406
DTSTAMP:20260421T024344
CREATED:20240609T115646Z
LAST-MODIFIED:20241212T090942Z
UID:20835-1743811200-1743897599@mujeryautista.com
SUMMARY:3a edición de "El Autismo Invisible en Primera Persona"
DESCRIPTION:Jornadas lideradas por personas autistas\, en colaboración con familias\, profesionales y entidades con autorepresentación; en las que la mayoría de las personas ponentes son personas autistas. \nEstas jornadas están dirigidas a cualquier persona que quiera aprender sobre el espectro del autismo desde la mirada de la primera persona. \nToda la información e inscripciones AQUÍ.
URL:https://mujeryautista.com/evento/3a-edicion-autismo-invisible-en-primera-persona/
LOCATION:Auditori ONCE\, Gran Via de les Corts Catalanes 400\, Barcelona\, Barcelona\, 08015\, Spain
CATEGORIES:Eventos
ATTACH;FMTTYPE=image/png:https://mujeryautista.com/wp-content/uploads/2024/06/abril-2025-9.png
END:VEVENT
BEGIN:VEVENT
DTSTART;TZID=UTC:20250410T190000
DTEND;TZID=UTC:20250410T203000
DTSTAMP:20260421T024344
CREATED:20250308T162822Z
LAST-MODIFIED:20250308T174606Z
UID:21690-1744311600-1744317000@mujeryautista.com
SUMMARY:Presentación de Lucía y el infinito en MADRID
DESCRIPTION:Presentación y firma del libro a través de una conversación entre mujeres autistas.\nParticipan Aina Pellicer (@palabritadeenfermera) y Mar Ramos (@la_aventura_infinita). \nEntrada libre hasta completar aforo.
URL:https://mujeryautista.com/evento/presentacion-de-lucia-y-el-infinito-en-madrid/
LOCATION:Grant Librería\, Miguel Servet 21\, Madrid\, Madrid\, 28012\, Spain
CATEGORIES:Eventos
ATTACH;FMTTYPE=image/jpeg:https://mujeryautista.com/wp-content/uploads/2025/02/46.jpg
END:VEVENT
BEGIN:VEVENT
DTSTART;VALUE=DATE:20250423
DTEND;VALUE=DATE:20250424
DTSTAMP:20260421T024344
CREATED:20250413T212817Z
LAST-MODIFIED:20250420T100301Z
UID:21745-1745366400-1745452799@mujeryautista.com
SUMMARY:Firmas Sant Jordi
DESCRIPTION:¡EL 23 DE ABRIL NOS VEMOS PARA CELEBRAR SANT JORDI! \n10:00 – 11:00 h – LIBELISTA RAMBLA – Paradas 22-23-24 – La Rambla\, 105\, Barcelona. \n18:00 – 19:00 h – ASSOCIACIÓ ESPECTRE AUTISTA – ASPERGER CATALUNYA – C/ Provença 270\, Barcelona \n19:00 – 20:00 h – INDEX BOOKS – Paradas 1-3-5-7 – Passeig de Gràcia\, 89\, Barcelona.
URL:https://mujeryautista.com/evento/firmas-sant-jordi/
LOCATION:Barcelona\, Barcelona\, 08006\, España
CATEGORIES:Eventos
ATTACH;FMTTYPE=image/jpeg:https://mujeryautista.com/wp-content/uploads/2025/04/Sant-Jordi-2025-Barcelona-Sara.jpg
END:VEVENT
BEGIN:VEVENT
DTSTART;TZID=UTC:20250510T110000
DTEND;TZID=UTC:20250510T130000
DTSTAMP:20260421T024344
CREATED:20250413T214355Z
LAST-MODIFIED:20250413T214355Z
UID:21751-1746874800-1746882000@mujeryautista.com
SUMMARY:Tertúlies ATEATE
DESCRIPTION:Autisme en primera persona a través del llibre Lucía y el infinito. \nXerrada i presentació.
URL:https://mujeryautista.com/evento/tertulies-ateate/
LOCATION:Biblioteca Marcel·lí Domingo\, Carrer de la Mercè 6\, Tortosa\, 43500\, Spain
CATEGORIES:Eventos
ATTACH;FMTTYPE=image/jpeg:https://mujeryautista.com/wp-content/uploads/2025/04/eventos-2.jpg
END:VEVENT
BEGIN:VEVENT
DTSTART;TZID=UTC:20250601T093000
DTEND;TZID=UTC:20250601T143000
DTSTAMP:20260421T024344
CREATED:20250514T204109Z
LAST-MODIFIED:20250514T204110Z
UID:21802-1748770200-1748788200@mujeryautista.com
SUMMARY:VI Jornada: Donem veu a l'autisme.
DESCRIPTION:
URL:https://mujeryautista.com/evento/vi-jornada-donem-veu-a-lautisme/
LOCATION:Casal Societat la Principal (Sala cine Zazie)\, Rambla Nostra Senyora 35-37\, Vilafranca del Penedès\, Barcelona\, 08720\, Spain
CATEGORIES:Eventos
ATTACH;FMTTYPE=image/jpeg:https://mujeryautista.com/wp-content/uploads/2025/05/eventos-3.jpg
END:VEVENT
BEGIN:VEVENT
DTSTART;VALUE=DATE:20250614
DTEND;VALUE=DATE:20250615
DTSTAMP:20260421T024344
CREATED:20250514T202755Z
LAST-MODIFIED:20250514T202755Z
UID:21790-1749859200-1749945599@mujeryautista.com
SUMMARY:III Jornadas "Bienvenidos a la Neurodiversidad".
DESCRIPTION:
URL:https://mujeryautista.com/evento/iii-jornadas-bienvenidos-a-la-neurodiversidad/
LOCATION:Colegio Santa María de los Volcanes – Nazaret\, Nicaragua 1\, Arrecife\, Lanzarote\, 35500\, Spain
CATEGORIES:Eventos
ATTACH;FMTTYPE=image/jpeg:https://mujeryautista.com/wp-content/uploads/2025/05/eventos-2.jpg
END:VEVENT
BEGIN:VEVENT
DTSTART;TZID=UTC:20250705T110000
DTEND;TZID=UTC:20250705T130000
DTSTAMP:20260421T024344
CREATED:20250518T164657Z
LAST-MODIFIED:20250518T164717Z
UID:21811-1751713200-1751720400@mujeryautista.com
SUMMARY:Autisme en femení
DESCRIPTION:Xerrada gratuïta i oberta a tothom sobre autisme femení en primera persona. \nPots reservar la teva plaça a info@teacompanyo.org
URL:https://mujeryautista.com/evento/autisme-en-femeni/
LOCATION:Museu Etnològic del Montseny\, la Gabella\, Carrer Major 6\, Arbúcies\, Girona\, 17401\, Spain
CATEGORIES:Eventos
ATTACH;FMTTYPE=image/jpeg:https://mujeryautista.com/wp-content/uploads/2025/05/eventos-2-1.jpg
ORGANIZER;CN="TEAcompanyo":MAILTO:info@teacompanyo.org
END:VEVENT
BEGIN:VEVENT
DTSTART;TZID=UTC:20251108T100000
DTEND;TZID=UTC:20251108T130000
DTSTAMP:20260421T024344
CREATED:20250908T141658Z
LAST-MODIFIED:20250927T171349Z
UID:21832-1762596000-1762606800@mujeryautista.com
SUMMARY:Cuando todo empieza a encajar
DESCRIPTION:AUTISMO EN PRIMERA PERSONA\nCuando todo empieza a encajar \n\nCharla\nFirma de libros\nAperitivo por cortesía de la organizacion\n\nEntrada gratuita con inscripción previa al teléfono: 644 011 135
URL:https://mujeryautista.com/evento/cuando-todo-empieza-a-encajar/
LOCATION:Espacio Alma\, Calle Alcalde Santiago Martinez Cabrejas\, Almería\, 04007\, Spain
CATEGORIES:Eventos
ATTACH;FMTTYPE=image/jpeg:https://mujeryautista.com/wp-content/uploads/2025/09/eventos-2-2.jpg
ORGANIZER;CN="InterAct%C3%BAa":MAILTO:centrointeractua@interactua.es
END:VEVENT
BEGIN:VEVENT
DTSTART;TZID=UTC:20251115T110000
DTEND;TZID=UTC:20251115T133000
DTSTAMP:20260421T024344
CREATED:20251025T194248Z
LAST-MODIFIED:20251025T194248Z
UID:21941-1763204400-1763213400@mujeryautista.com
SUMMARY:Taller-encuentro con SARA CODINA
DESCRIPTION:Acompañada del equipo de psicólogas de ConSentido\, Sara nos hablará de lo invisible del autismo en femenino. \nSi acabas de recibir la identificación\, si sospechas de tu neurodivergencia o simplemente quieres escuchar hablar de autismo en primera persona\, vente a pasar la mañana con nosotras. \nPLAZAS LIMITADAS \n🧭FECHA: Sábado 15 de 11.00 a 13.30 hs \n🧭LUGAR: Espacio ConSentido\, en la Calle El Cid\, nº 44 of. C. Las Palmas de Gran Canaria. \n🧭COSTE: 35€ (Efectivo en el centro\, contactando con el 699836463) o (Bizum a 638434046. CONCEPTO; NOMBRE COMPLETO DE LA PERSONA INSCRITA) \n¡NOS VEMOS PRONTO! \nEnlace: https://forms.gle/M8CnXiEtThx9n9qDA
URL:https://mujeryautista.com/evento/taller-encuentro-con-sara-codina/
LOCATION:ConSentido\, El Cid 44\, Las Palmas de Gran Canaria\, 35010\, Spain
CATEGORIES:Eventos
ATTACH;FMTTYPE=image/jpeg:https://mujeryautista.com/wp-content/uploads/2025/10/familias-con-sentido-Gran-Canaria.jpeg
END:VEVENT
BEGIN:VEVENT
DTSTART;TZID=UTC:20251118T180000
DTEND;TZID=UTC:20251118T193000
DTSTAMP:20260421T024344
CREATED:20251025T205150Z
LAST-MODIFIED:20251218T100007Z
UID:21950-1763488800-1763494200@mujeryautista.com
SUMMARY:Biblioteca inclusiva: Dando respuesta a los usuarios con diversidad funcional.
DESCRIPTION:Después de la primera edición en 2024\, impulsada por el Ayuntamiento de Mogán en respuesta a la demanda de las familias con menores con diversidad funcional\, este año llega la segunda edición de estas Jornadas que pretenden que las bibliotecas sean un espacio que de respuesta o todos y todas\, sin excepción\, y fomentar así una comunidad inclusiva. \nLa Jornadas ‘Biblioteca Inclusiva’ darán comienzo el lunes 10 de noviembre con la charla-taller ‘Crear cuentos con pictogramas’\, y seguirá el martes 12 de la mano de la terapeuta ocupacional Celia Roldán\, que ofrecerá las charlas ‘Adecuación de los espacios en bibliotecas para usuarios con desafíos sensoriales y de aprendizaje: Favorecer la lectura y la creatividad’ y ‘ El hogar: un espacio para el bienestar y desarrollo de intereses profundos a través de la lectura y el juego’. \nEl miércoles día 12  las familias con menores de 3 a 12 años disfrutarán jugando con el cuento ilustrado ‘Por cuatro esquinitas de nada’. Mientras\, el jueves 13 será el turno de la charla ‘El autismo en femenino’ de Sara Codina\, escritora y persona autista que hablará de su experiencia personal y del autismo en mujeres.
URL:https://mujeryautista.com/evento/biblioteca-inclusiva-dando-respuesta-a-los-usuarios-con-diversidad-funcional/
LOCATION:Biblioteca Pública Municipal de Arguineguín\, Avenida Alcalde Paco González\, s/n\, Arguineguín\, Mogán\, Gran Canaria\, 35120\, Spain
CATEGORIES:Eventos
ATTACH;FMTTYPE=image/png:https://mujeryautista.com/wp-content/uploads/2025/10/eventos-5.png
END:VEVENT
BEGIN:VEVENT
DTSTART;VALUE=DATE:20251121
DTEND;VALUE=DATE:20251123
DTSTAMP:20260421T024344
CREATED:20250518T170853Z
LAST-MODIFIED:20250913T210848Z
UID:21819-1763683200-1763855999@mujeryautista.com
SUMMARY:CEC Isla Bonita
DESCRIPTION:El Congreso Educativo y Cultural Isla Bonita es un punto de encuentro para la reflexión\, el aprendizaje y el intercambio de ideas entre todas las personas comprometidas con la educación y la cultura\, tanto en Canarias como en el resto de España \nLa selección de ponencias\, talleres y espectáculos buscan mejorar la educación a través de planteamientos actualizados\, pensamiento crítico y experiencias enriquecedoras. \nEn mi caso participaré haciendo 3 talleres.
URL:https://mujeryautista.com/evento/cec-isla-bonita/
LOCATION:Teatro Circo de Marte / IES Alonso Pérez Díaz\, C. Virgen de la Luz\, 5\, Santa Cruz de la Palma\, La Palma\, 38700\, Spain
CATEGORIES:Eventos
ATTACH;FMTTYPE=image/png:https://mujeryautista.com/wp-content/uploads/2025/05/eventos-4.png
END:VEVENT
BEGIN:VEVENT
DTSTART;TZID=UTC:20260123T153000
DTEND;TZID=UTC:20260124T200000
DTSTAMP:20260421T024344
CREATED:20250914T131926Z
LAST-MODIFIED:20250914T132503Z
UID:21865-1769182200-1769284800@mujeryautista.com
SUMMARY:III Jornadas sobre Autismo
DESCRIPTION:23 de enero: \nDesde las 15:30 recepción de asistentes.\nInicio de Jornadas 16:30-20:00 \n24 de enero: \n9:15 llegada\n9:30 Ponencias\n11:30 descanso\n12:00-14:00 Ponencias\n14:00-16:00 Almuerzo y descanso libre.\n16:00- 19:45 Ponencias y cierre. \n——————————————————— \nPonentes: \n\nAnabel Cornago\nSol Solís\nSara Codina\nYolanda Ravelo\nPilar Toledo\nEligia Rodríguez\nYaiza Peña
URL:https://mujeryautista.com/evento/iii-jornadas-sobre-autismo/
LOCATION:Real Casino de Tenerife\, Pl de la Candelaria 12\, Santa Cruz de Tenerife\, Tenerife\, 38002\, Spain
CATEGORIES:Eventos
ATTACH;FMTTYPE=image/jpeg:https://mujeryautista.com/wp-content/uploads/2025/09/eventos-2-1.jpg
END:VEVENT
BEGIN:VEVENT
DTSTART;VALUE=DATE:20260207
DTEND;VALUE=DATE:20260208
DTSTAMP:20260421T024344
CREATED:20251009T131743Z
LAST-MODIFIED:20260203T211636Z
UID:21907-1770422400-1770508799@mujeryautista.com
SUMMARY:Jornadas de autismo: El autismo desde dentro
DESCRIPTION:El Autismo desde Dentro no es solo una jornada. Es un espacio donde ciencia y experiencia se encuentran para cambiar la forma en la que entendemos el autismo. \nCon Sara Codina\, Mayte Serrat\, Andrea Pérez Ludeña y Naira Minto de Sousa\, mujeres que inspiran\, enseñan y hablan desde la vivencia real. \nHablaremos de autismo en la adultez\, identidad de género\, procesamiento sensorial\, maternidad\, emociones y neurodivergencia.
URL:https://mujeryautista.com/evento/jornadas-de-autismo-el-autismo-desde-dentro/
LOCATION:Colegio Mayor Universitario Albalat\, Avenida del Primado Reig 167\, Valencia\, Valencia\, 46020\, Spain
CATEGORIES:Eventos
ATTACH;FMTTYPE=image/jpeg:https://mujeryautista.com/wp-content/uploads/2025/10/eventos-3.jpg
END:VEVENT
BEGIN:VEVENT
DTSTART;TZID=UTC:20260221T100000
DTEND;TZID=UTC:20260221T130000
DTSTAMP:20260421T024344
CREATED:20260203T211204Z
LAST-MODIFIED:20260203T211204Z
UID:22439-1771668000-1771678800@mujeryautista.com
SUMMARY:Charla - Taller: Autismo en Primera Persona
DESCRIPTION:Charla está dirigida a familias\, profesionales\, docentes\, estudiantes y cualquier persona interesada en comprender el autismo desde dentro\, más allá de los manuales y diagnósticos. \nFecha: sábado 21 de febreroHorario: de 10 a 13 hLugar: Biblioteca Pública del Estado de Cuenca “Fermín Caballero”Inscripción: gratuita (plazas limitadas)
URL:https://mujeryautista.com/evento/charla-taller-autismo-en-primera-persona/
LOCATION:Biblioteca Pública del Estado de Cuenca “Fermín Caballero”\, Glorieta González Palencia 1\, Cuenca\, Cuenca\, 16002\, Spain
CATEGORIES:Eventos
ATTACH;FMTTYPE=image/jpeg:https://mujeryautista.com/wp-content/uploads/2026/02/eventos-2.jpg
END:VEVENT
BEGIN:VEVENT
DTSTART;TZID=UTC:20260228T100000
DTEND;TZID=UTC:20260228T120000
DTSTAMP:20260421T024344
CREATED:20260205T174525Z
LAST-MODIFIED:20260214T190159Z
UID:22451-1772272800-1772280000@mujeryautista.com
SUMMARY:Escoltar\, entendre i trencar mites
DESCRIPTION:El 28 de febrer tenim una cita molt especial. \n🧠 Una xerrada per escoltar de veritat\n💬 Per entendre més enllà dels tòpics\n💥 I per trencar mites que encara fan mal \n📍 Centre Cultural Can Jonch (Granollers)\n🕙 10.00 h \n⚠️ Aforament limitat – inscripció obligatòria AQUÍ \nSi ets família\, professional o simplement tens ganes d’aprendre i mirar l’autisme amb una altra mirada… aquesta xerrada és per a tu 💜
URL:https://mujeryautista.com/evento/escoltar-entendre-i-trencar-mites/
LOCATION:Centre Cultural Can Jonch\, Carrer del Rec 19\, Granollers\, Barcelona\, 08401\, Spain
CATEGORIES:Eventos
ATTACH;FMTTYPE=image/png:https://mujeryautista.com/wp-content/uploads/2026/02/eventos-6.png
END:VEVENT
BEGIN:VEVENT
DTSTART;TZID=UTC:20260415T190000
DTEND;TZID=UTC:20260415T203000
DTSTAMP:20260421T024344
CREATED:20260325T090928Z
LAST-MODIFIED:20260413T152047Z
UID:22486-1776279600-1776285000@mujeryautista.com
SUMMARY:III Jornadas ¿TEApetece que hablemos?
DESCRIPTION:SESIÓN 1: Miércoles\, 15 de abril de 2026\, 19:00 h.El autismo invisible en mujeres.Un testimonio en primera persona.Conferencia y debate a cargo de Sara Codina \nLUGAR: Salón de Actos Amparo Sánchez Facultad de Ciencias Sociales y Humanas (Campus de Teruel) \nACCESO: Entrada libre hasta completar aforo.
URL:https://mujeryautista.com/evento/autismo-teruel/
LOCATION:Salón de Actos Amparo Sánchez\, C/ Atarazana\, 4\, Teruel\, 44003\, Spain
CATEGORIES:Eventos
ATTACH;FMTTYPE=image/jpeg:https://mujeryautista.com/wp-content/uploads/2026/03/eventos-6.jpg
END:VEVENT
BEGIN:VEVENT
DTSTART;TZID=UTC:20260425T090000
DTEND;TZID=UTC:20260425T140000
DTSTAMP:20260421T024344
CREATED:20260325T091106Z
LAST-MODIFIED:20260417T210400Z
UID:22490-1777107600-1777125600@mujeryautista.com
SUMMARY:V Jornadas Conciencia TEA: Autismo Invisible
DESCRIPTION:📣 El próximo sábado 25 de abril participamos en las V Jornadas de Concienciación de Autismo organizadas por la Asociación Conciencia TEA en el Centro Cívico El Molino de Villanueva de la Cañada (Madrid) \n📋 El programa de las jornadas es le siguiente: \n■ 10:00H a 10:15H Inauguración y acto de apertura.\n■ 10:15H a 12:00H Carmen Molina: SER AUTISTA\n■ 12:00H a 12:30H DESCANSO (pausa para café)\n■ 12:30H a 13:45H Sara Codina: MUJER Y AUTISTA\, El relato de un diagnostico tardío. \nUna oportunidad única para aprender más sobre el autismo\, compartir experiencias y conocer gente interesada en el tema. Así que disfrútala y comparte este mensaje con los que creas que les pueda interesar! \n📅Sábado 25 de Abril del 2026\n🕤 10.00 – 14:00\n📍 Centro Cívico El Molino en Villanueva de la Cañada. (Solo presencial y previa inscripción)\n💰¡Las plazas son gratuitas\, aunque son limitadas! \n 
URL:https://mujeryautista.com/evento/v-jornadas-conciencia-tea-autismo-invisible/
LOCATION:Centro Cívico El Molino\, C. del Molino 2\, Villanueva de la Cañada\, Madrid\, 28691\, Spain
CATEGORIES:Eventos
ATTACH;FMTTYPE=image/jpeg:https://mujeryautista.com/wp-content/uploads/2026/03/eventos-7.jpg
END:VEVENT
BEGIN:VEVENT
DTSTART;VALUE=DATE:20270403
DTEND;VALUE=DATE:20270404
DTSTAMP:20260421T024344
CREATED:20260406T184521Z
LAST-MODIFIED:20260406T184521Z
UID:22494-1806710400-1806796799@mujeryautista.com
SUMMARY:4a edición de El Autismo Invisible en Primera Persona
DESCRIPTION:Próximamente compartiremos el programa y abriremos las inscripciones.
URL:https://mujeryautista.com/evento/4a-edicion-de-el-autismo-invisible-en-primera-persona/
CATEGORIES:Eventos
ATTACH;FMTTYPE=image/png:https://mujeryautista.com/wp-content/uploads/2026/04/eventos-6.png
END:VEVENT
END:VCALENDAR