BEGIN:VCALENDAR
VERSION:2.0
PRODID:-//MUJER Y AUTISTA - SARA CODINA - ECPv6.15.18//NONSGML v1.0//EN
CALSCALE:GREGORIAN
METHOD:PUBLISH
X-WR-CALNAME:MUJER Y AUTISTA - SARA CODINA
X-ORIGINAL-URL:https://mujeryautista.com
X-WR-CALDESC:Eventos para MUJER Y AUTISTA - SARA CODINA
REFRESH-INTERVAL;VALUE=DURATION:PT1H
X-Robots-Tag:noindex
X-PUBLISHED-TTL:PT1H
BEGIN:VTIMEZONE
TZID:UTC
BEGIN:STANDARD
TZOFFSETFROM:+0000
TZOFFSETTO:+0000
TZNAME:UTC
DTSTART:20230101T000000
END:STANDARD
END:VTIMEZONE
BEGIN:VEVENT
DTSTART;VALUE=DATE:20241017
DTEND;VALUE=DATE:20241018
DTSTAMP:20260421T042611
CREATED:20241106T222252Z
LAST-MODIFIED:20241106T222252Z
UID:21183-1729123200-1729209599@mujeryautista.com
SUMMARY:El desenvolupament en primera infància\, un poliedro en construcció.
DESCRIPTION:La jornada va acollir conferències i debats entorn el desenvolupament infantil\, els trastorns de l’espectre autista i va comptar amb testimonis de famílies i professionals experts
URL:https://mujeryautista.com/evento/el-desenvolupament-primera-infancia/
CATEGORIES:Eventos
ATTACH;FMTTYPE=image/png:https://mujeryautista.com/wp-content/uploads/2024/11/eventos-3.png
END:VEVENT
END:VCALENDAR