BEGIN:VCALENDAR
VERSION:2.0
PRODID:-//MUJER Y AUTISTA - SARA CODINA - ECPv6.15.18//NONSGML v1.0//EN
CALSCALE:GREGORIAN
METHOD:PUBLISH
X-WR-CALNAME:MUJER Y AUTISTA - SARA CODINA
X-ORIGINAL-URL:https://mujeryautista.com
X-WR-CALDESC:Eventos para MUJER Y AUTISTA - SARA CODINA
REFRESH-INTERVAL;VALUE=DURATION:PT1H
X-Robots-Tag:noindex
X-PUBLISHED-TTL:PT1H
BEGIN:VTIMEZONE
TZID:UTC
BEGIN:STANDARD
TZOFFSETFROM:+0000
TZOFFSETTO:+0000
TZNAME:UTC
DTSTART:20230101T000000
END:STANDARD
END:VTIMEZONE
BEGIN:VEVENT
DTSTART;VALUE=DATE:20241005
DTEND;VALUE=DATE:20241007
DTSTAMP:20260421T042518
CREATED:20240916T204828Z
LAST-MODIFIED:20240916T204828Z
UID:21150-1728086400-1728259199@mujeryautista.com
SUMMARY:Congreso Autismo y Neurodiversidad
DESCRIPTION:El Congreso reúne a expertos nacionales e internacionales para compartir conocimientos actualizados sobre neurodiversidad. Este evento fomenta la inclusión y el respeto hacia las personas neurodivergentes\, ofreciendo acceso gratuito a toda la comunidad.
URL:https://mujeryautista.com/evento/congreso-autismo-y-neurodiversidad/
LOCATION:neurodiversidad.org\, Provincia de Santa Fe\, Argentina
ATTACH;FMTTYPE=image/png:https://mujeryautista.com/wp-content/uploads/2024/09/Sara-Codina-3.png
END:VEVENT
END:VCALENDAR