BEGIN:VCALENDAR
VERSION:2.0
PRODID:-//MUJER Y AUTISTA - SARA CODINA - ECPv6.15.18//NONSGML v1.0//EN
CALSCALE:GREGORIAN
METHOD:PUBLISH
X-WR-CALNAME:MUJER Y AUTISTA - SARA CODINA
X-ORIGINAL-URL:https://mujeryautista.com
X-WR-CALDESC:Eventos para MUJER Y AUTISTA - SARA CODINA
REFRESH-INTERVAL;VALUE=DURATION:PT1H
X-Robots-Tag:noindex
X-PUBLISHED-TTL:PT1H
BEGIN:VTIMEZONE
TZID:UTC
BEGIN:STANDARD
TZOFFSETFROM:+0000
TZOFFSETTO:+0000
TZNAME:UTC
DTSTART:20230101T000000
END:STANDARD
END:VTIMEZONE
BEGIN:VEVENT
DTSTART;VALUE=DATE:20240626
DTEND;VALUE=DATE:20240627
DTSTAMP:20260423T125127
CREATED:20240519T134803Z
LAST-MODIFIED:20240519T135324Z
UID:20779-1719360000-1719446399@mujeryautista.com
SUMMARY:Plan Vasco de Autismo: una propuesta.
DESCRIPTION:DESCRIPCIÓN \nLos Trastornos del Espectro del Autismo\, coloquialmente referidos como TEA o autismo\, constituyen actualmente en muchos países desarrollados una “condición”; no una enfermedad\, sino una de las variantes del Neurodesarrollo que coloca a quien lo presenta\, y a sus familiares\, en situación de una marcada desventaja social. \nSu creciente identificación; los nuevos datos sobre la propia diversidad interna del colectivo\, la defensa de sus derechos y su positiva contribución a nuestra sociedad\, han generado un cambio revolucionario en la manera de cómo modificar las actitudes de los demás y cómo asegurar su acceso a los sistemas de salud\, educación\, empleo\, etc… Algunos países han avanzado en el desarrollo y aplicación de una Estrategia transversal del autismo\, conjugando el papel tractor gubernamental y la corresponsabilidad de la propia comunidad. \nEl Curso de Verano recordará las necesidades existentes y planteará alternativas consensuadas en nuestro medio\, que deben constituir el denominado “Plan Vasco de Autismo”.
URL:https://mujeryautista.com/evento/plan-vasco-de-autismo-una-propuesta/
LOCATION:Palacio Miramar\, Pº de Miraconcha nº 48\, San Sebastián\, Gipuzkoa\, 20007\, España
CATEGORIES:Eventos
ATTACH;FMTTYPE=image/png:https://mujeryautista.com/wp-content/uploads/2024/05/Gautena-y-universidad-de-donosti.png
END:VEVENT
END:VCALENDAR