BEGIN:VCALENDAR
VERSION:2.0
PRODID:-//MUJER Y AUTISTA - SARA CODINA - ECPv6.15.18//NONSGML v1.0//EN
CALSCALE:GREGORIAN
METHOD:PUBLISH
X-ORIGINAL-URL:https://mujeryautista.com
X-WR-CALDESC:Eventos para MUJER Y AUTISTA - SARA CODINA
REFRESH-INTERVAL;VALUE=DURATION:PT1H
X-Robots-Tag:noindex
X-PUBLISHED-TTL:PT1H
BEGIN:VTIMEZONE
TZID:UTC
BEGIN:STANDARD
TZOFFSETFROM:+0000
TZOFFSETTO:+0000
TZNAME:UTC
DTSTART:20230101T000000
END:STANDARD
END:VTIMEZONE
BEGIN:VEVENT
DTSTART;TZID=UTC:20240615T100000
DTEND;TZID=UTC:20240615T120000
DTSTAMP:20260423T125839
CREATED:20240519T142844Z
LAST-MODIFIED:20240609T130824Z
UID:20803-1718445600-1718452800@mujeryautista.com
SUMMARY:Charla con Sara Codina
DESCRIPTION:Hablaré sobre cómo me ayudó recibir el diagnóstico\, cómo me he sentido en este camino de autoconocimiento hasta hoy\, haciendo especial hincapié en el autismo femenino. \nCon opción de PREGUNTAR LAS DUDAS QUE TENGÁIS. \nSerá un encuentro tranquilo y por eso mismo SERÁN PLAZAS LIMITADAS con una duración de 2 horas.
URL:https://mujeryautista.com/evento/charla-con-sara-codina/
LOCATION:Futuro Autista\, Còrsega 215\, Barcelona\, Barcelona\, 08036\, España
CATEGORIES:Eventos
ATTACH;FMTTYPE=image/png:https://mujeryautista.com/wp-content/uploads/2024/05/charla-futuro-autista.png
END:VEVENT
END:VCALENDAR