BEGIN:VCALENDAR
VERSION:2.0
PRODID:-//MUJER Y AUTISTA - SARA CODINA - ECPv6.15.18//NONSGML v1.0//EN
CALSCALE:GREGORIAN
METHOD:PUBLISH
X-ORIGINAL-URL:https://mujeryautista.com
X-WR-CALDESC:Eventos para MUJER Y AUTISTA - SARA CODINA
REFRESH-INTERVAL;VALUE=DURATION:PT1H
X-Robots-Tag:noindex
X-PUBLISHED-TTL:PT1H
BEGIN:VTIMEZONE
TZID:UTC
BEGIN:STANDARD
TZOFFSETFROM:+0000
TZOFFSETTO:+0000
TZNAME:UTC
DTSTART:20230101T000000
END:STANDARD
END:VTIMEZONE
BEGIN:VEVENT
DTSTART;TZID=UTC:20240301T160000
DTEND;TZID=UTC:20240301T203000
DTSTAMP:20260423T174238
CREATED:20231203T222713Z
LAST-MODIFIED:20240114T203643Z
UID:20379-1709308800-1709325000@mujeryautista.com
SUMMARY:Hablemos de autismo
DESCRIPTION:
URL:https://mujeryautista.com/evento/formaciones-y-charlas-en-tenerife/
LOCATION:Catalonia Punta del Rey Candelaria\, Av. Maritima\, 165\, Candelaria\, Santa Cruz de Tenerife\, 38520\, España
ATTACH;FMTTYPE=image/jpeg:https://mujeryautista.com/wp-content/uploads/2023/12/WhatsApp-Image-2024-01-12-at-00.12.02.jpeg
END:VEVENT
END:VCALENDAR