BEGIN:VCALENDAR
VERSION:2.0
PRODID:-//MUJER Y AUTISTA - SARA CODINA - ECPv6.15.18//NONSGML v1.0//EN
CALSCALE:GREGORIAN
METHOD:PUBLISH
X-WR-CALNAME:MUJER Y AUTISTA - SARA CODINA
X-ORIGINAL-URL:https://mujeryautista.com
X-WR-CALDESC:Eventos para MUJER Y AUTISTA - SARA CODINA
REFRESH-INTERVAL;VALUE=DURATION:PT1H
X-Robots-Tag:noindex
X-PUBLISHED-TTL:PT1H
BEGIN:VTIMEZONE
TZID:UTC
BEGIN:STANDARD
TZOFFSETFROM:+0000
TZOFFSETTO:+0000
TZNAME:UTC
DTSTART:20230101T000000
END:STANDARD
END:VTIMEZONE
BEGIN:VEVENT
DTSTART;TZID=UTC:20240207T180000
DTEND;TZID=UTC:20240207T200000
DTSTAMP:20260423T172033
CREATED:20240120T144406Z
LAST-MODIFIED:20240130T155636Z
UID:20556-1707328800-1707336000@mujeryautista.com
SUMMARY:Mujer y autista: Autismo en primera persona.
DESCRIPTION:Cuándo\nMiércoles 7 de febrero de 2024.\nDe 18:00 a 20:00. \nDónde\nUniversitat Jaume I\nAula Magna – Facultat Ciències Socials I Humanes \nA quién va dirigido\nA todas las personas interesadas sin inscripción previa hasta completar aforo.
URL:https://mujeryautista.com/evento/mujer-y-autista-40-anos-siendo-autista-sin-saberlo/
LOCATION:Universitat Jaume I\, Av. Vicent Sos Baynat\, Castelló de la Plana\, 12071\, España
ATTACH;FMTTYPE=image/png:https://mujeryautista.com/wp-content/uploads/2024/01/eventos-2-1.png
END:VEVENT
END:VCALENDAR